BEGIN:VCALENDAR
VERSION:2.0
PRODID:-//GGDrU - ECPv6.15.20//NONSGML v1.0//EN
CALSCALE:GREGORIAN
METHOD:PUBLISH
X-WR-CALNAME:GGDrU
X-ORIGINAL-URL:https://ggdru.nl
X-WR-CALDESC:Evenementen voor GGDrU
REFRESH-INTERVAL;VALUE=DURATION:PT1H
X-Robots-Tag:noindex
X-PUBLISHED-TTL:PT1H
BEGIN:VTIMEZONE
TZID:Europe/Amsterdam
BEGIN:DAYLIGHT
TZOFFSETFROM:+0100
TZOFFSETTO:+0200
TZNAME:CEST
DTSTART:20240331T010000
END:DAYLIGHT
BEGIN:STANDARD
TZOFFSETFROM:+0200
TZOFFSETTO:+0100
TZNAME:CET
DTSTART:20241027T010000
END:STANDARD
BEGIN:DAYLIGHT
TZOFFSETFROM:+0100
TZOFFSETTO:+0200
TZNAME:CEST
DTSTART:20250330T010000
END:DAYLIGHT
BEGIN:STANDARD
TZOFFSETFROM:+0200
TZOFFSETTO:+0100
TZNAME:CET
DTSTART:20251026T010000
END:STANDARD
BEGIN:DAYLIGHT
TZOFFSETFROM:+0100
TZOFFSETTO:+0200
TZNAME:CEST
DTSTART:20260329T010000
END:DAYLIGHT
BEGIN:STANDARD
TZOFFSETFROM:+0200
TZOFFSETTO:+0100
TZNAME:CET
DTSTART:20261025T010000
END:STANDARD
BEGIN:DAYLIGHT
TZOFFSETFROM:+0100
TZOFFSETTO:+0200
TZNAME:CEST
DTSTART:20270328T010000
END:DAYLIGHT
BEGIN:STANDARD
TZOFFSETFROM:+0200
TZOFFSETTO:+0100
TZNAME:CET
DTSTART:20271031T010000
END:STANDARD
END:VTIMEZONE
BEGIN:VEVENT
DTSTART;TZID=Europe/Amsterdam:20250929T130000
DTEND;TZID=Europe/Amsterdam:20250929T170000
DTSTAMP:20260425T143507
CREATED:20250904T112756Z
LAST-MODIFIED:20250904T112756Z
UID:38323-1759150800-1759165200@ggdru.nl
SUMMARY:Bijeenkomst ‘Gezonde leefomgeving’ voor professionals op maandag 29 september
DESCRIPTION:Wat bedoelen we met een gezonde leefomgeving\, en hoe beïnvloedt deze de gezondheid van inwoners? En welke interventies kun je toepassen om een gezonde leefomgeving te realiseren in jouw wijk\, gemeente of regio? Op maandag 29 september organiseert GGD regio Utrecht een interactieve bijeenkomst met inspirerende praktijkvoorbeelden en handvatten waarin we met deze vragen aan de slag gaan!\n\n\nDatum\, locatie\, tijd en aanmelden\n \n\n 	Datum: Maandag 29 september\n \n 	Tijd: 13.00 – 17.00 uur (inloop vanaf 12.30 uur)\n \n 	Locatie: GGD regio Utrecht (hoofdkantoor)\, De Dreef 5 in Zeist\n\n Meld je aan voor de bijeenkomst\n\n\nWaarom deze bijeenkomst?\n \n\nEen gezonde leefomgeving is een essentiële voorwaarde om gezond gedrag mogelijk te maken. De omgeving waarin mensen wonen\, werken en leven beïnvloedt hun keuzes en gedrag op het gebied van voeding\, beweging\, ontspanning en sociale interactie. De huidige leefomgeving is vaak een belemmering voor gezond gedrag: ongezonde voedselverleidingen\, beperkte beweegruimte en sociale ongelijkheid maken het moeilijk om gezonde keuzes te maken – zeker voor kwetsbare groepen.\n\n \n\nTijdens deze bijeenkomst gaan we samen op zoek naar manieren om de leefomgeving gezonder te maken en zo de ketenaanpakken te versterken. We delen inzichten\, praktijkvoorbeelden en verkennen samen wat wél werkt. We gaan in op:\n\n \n\n 	Inspirerende praktijkvoorbeelden uit de regio;\n \n 	Wat zijn de kernwaarden van een gezonde leefomgeving?\n \n 	Hoe kunnen we de voedselomgeving in kaart brengen en waar zitten de aangrijpingspunten?\n\n \nVoor wie?\n \n\nDe bijeenkomst is voor iedereen die werkt aan preventie\, gezondheidsbevordering of het opzetten van een integrale ketenaanpak binnen gemeenten\, zorg- en welzijnspartijen in de provincie Utrecht.\n\n \n\nKen je iemand voor wie deze bijeenkomst interessant kan zijn? Stuur de uitnodiging gerust door.\n\n \nLeuke voorbeelden?\n \n\nHeb je een mooi voorbeeld over wat werkt om een gezonde leefomgeving te creëren dat je graag zou willen delen? Laat het ons weten per e-mail via edoets@ggdru.nl.\n\n \nHet drieluik\n \n\nDeze bijeenkomst is de eerste in een drieluik dat GGD regio Utrecht organiseert. De volgende bijeenkomsten in het drieluik zijn:\n\n \nBereiken van kwetsbare doelgroepen (juni 2025):\n \n\nKwetsbare doelgroepen leven vaak ongezonder en vallen buiten het reguliere aanbod\, terwijl juist zij gebaat zijn bij passende ondersteuning. Hoe kunnen we deze mensen beter begrijpen\, bereiken en ondersteunen?\n\n \nEen gezonde leefomgeving (najaar 2025):\n \n\nWat verstaan we onder een gezonde leefomgeving en hoe beïnvloedt deze de gezondheid op het gebied van onder andere ruimte\, voeding\, klimaat en sociale samenhang? Wat is de rol van het sociaal en medisch domein? We delen inspirerende praktijkvoorbeelden en praktische handvatten.\n\n \nDoorstroming van ketenaanpak naar structureel aanbod (najaar 2025)\n \n\nDe ketenaanpakken helpen kwetsbare doelgroepen bij het aanpassen van hun leefstijlgedrag om hun gezondheid te bevorderen. Hoe zorgen we dat deelnemers na afloop van de ketenaanpak hun gezonde gedrag volhouden?  In praktijk is de doorstroming van de ketenaanpak naar structureel aanbod best een uitdaging. In deze bijeenkomst bespreken we de uitdagingen en kansen bij het versterken van de verbinding tussen tijdelijke interventies en het reguliere aanbod.\n\n \n\nNa aanmelden ontvang je het definitieve programma.\n\n \n\nKen je iemand voor wie deze bijeenkomst relevant is? Deel dit bericht gerust door.\n\n \n\nWe zien je graag op 29 september!
URL:https://ggdru.nl/agenda/bijeenkomst-gezonde-leefomgeving-voor-professionals-op-maandag-29-september/
LOCATION:Hoofdkantoor GGDrU\, De Dreef 5\, Zeist\, Utrecht\, 3706 BR\, Netherlands
CATEGORIES:Bijeenkomst professionals
END:VEVENT
BEGIN:VEVENT
DTSTART;TZID=Europe/Amsterdam:20251002T130000
DTEND;TZID=Europe/Amsterdam:20251002T170000
DTSTAMP:20260425T143507
CREATED:20250904T133110Z
LAST-MODIFIED:20250904T133110Z
UID:38336-1759410000-1759424400@ggdru.nl
SUMMARY:Bijeenkomst voor professionals: Naar toegankelijke zorg en ontmoeting in de wijk
DESCRIPTION:Graag nodigen wij je uit voor de themabijeenkomst ‘Naar toegankelijke zorg en ontmoeting in de wijk’ op donderdag 2 oktober\, georganiseerd door de Regionale Kenniswerkplaats Samen Omgaan met Onbegrip (SOMO).\n\n\nPraktische informatie\n \n\n 	Wanneer: donderdag 2 oktober 2025\n \n 	Tijd: 13.00 – 17.00 uur (inloop vanaf 12.30 uur)\n \n 	Waar: Universiteit Utrecht\, Vening Meineszgebouw C (Playground)\, Princetonlaan 6\, 3584 CB te Utrecht\n \n 	Voor wie: voor iedereen die betrokken is bij het verbeteren van de aanpak van onbegrepen gedrag\n\n\n\nMeld je aan met dit formulier.\n\n\nWaarom deze bijeenkomst?\n \n\nUit onderzoek van SOMO blijkt dat vroegsignalering en outreachende zorg nog onvoldoende aandacht krijgen\, terwijl deze juist essentieel zijn om te voorkomen dat situaties escaleren. De huidige benadering van outreachende zorg kan niet voorkomen dat mensen tussen wal en schip vallen. Er is behoefte aan vernieuwing. Dit is de aanleiding voor onze bijeenkomst: Hoe kunnen we zorg en ontmoeting toegankelijker maken in de wijk?\n\n \nWat kun je verwachten?\n \n\nWe gaan in gesprek over nieuwe werkwijzen van vroegsignalering en ontmoeting. Hoe komt het dat sommige praktijkorganisaties erin slagen om mensen met onbegrepen gedrag actief te betrekken bij cultuur\, sport\, vrijwilligerswerk en meer? Hoe komt het dat wat voor de één onmogelijk leek\, voor de ander wel haalbaar is? Wat zijn de ‘ingrediënten’ van hun succes?\n\n \n\nDeze middag zal bestaan uit inspirerende ervaringsverhalen\, pitches en workshops. Hierin delen zowel ervaringsdeskundigen als professionals\, beleidsmakers als onderzoekers hun visie en kennis over de uitdagingen en oplossingen in het veld.\n\n \nVoor wie?\n \n\nDe bijeenkomst is bedoeld voor iedereen die betrokken is bij het verbeteren van de aanpak van onbegrepen gedrag. Of je nu werkzaam bent als zorgprofessional\, beleidsmaker\, ervaringsdeskundige of onderzoeker\, je bent van harte welkom om deel te nemen aan de gesprekken en workshops.\n\nIs deze themabijeenkomst ook interessant voor contacten uit je netwerk? Stuur deze uitnodiging gerust door. We zien je graag op 2 oktober!\n\nMeld je aan met dit formulier.
URL:https://ggdru.nl/agenda/bijeenkomst-voor-professionals-naar-toegankelijke-zorg-en-ontmoeting-in-de-wijk/
LOCATION:Utrecht
CATEGORIES:Bijeenkomst professionals
ATTACH;FMTTYPE=image/jpeg:https://ggdru.nl/wp-content/uploads/2025/09/SOMO-meeting.jpg
END:VEVENT
BEGIN:VEVENT
DTSTART;TZID=Europe/Amsterdam:20251118T150000
DTEND;TZID=Europe/Amsterdam:20251118T170000
DTSTAMP:20260425T143507
CREATED:20250902T083247Z
LAST-MODIFIED:20250917T145941Z
UID:38255-1763478000-1763485200@ggdru.nl
SUMMARY:Fysieke bijeenkomst voor professionals: 'Kinderwens: durf te vragen!’
DESCRIPTION:Op 18 november organiseren GGD Gooi en Vechtstreek en GGD regio Utrecht de themabijeenkomst ‘Kinderwens: durf te vragen!’. Om je te laten inspireren\, te verdiepen en elkaar te ontmoeten. \nWe kunnen alvast verklappen dat we plenair aan de slag gaan met acteurs en oefenen met gespreksvoering – een mooie kans om je vaardigheden te versterken! Daarnaast bieden we diverse workshops rondom belangrijke thema’s\, zoals cultuursensitief werken\, de implementatie van NNZ binnen je eigen organisatie en werken met de praatplaten. \nWanneer: dinsdag 18 november 2025\nTijd: 15.00-17.00 uur (inloop vanaf 14.30 uur)\nWaar: De Dreef 5\, Zeist\nVoor wie: aandachtsfunctionarissen Nu Niet Zwanger en professionals uit het medisch en sociaal domein\, neem vooral een collega mee! \nIn september versturen we de officiële uitnodiging met meer informatie over het programma en de workshops. \nBen jij erbij? Meld je aan voor de bijeenkomst via deze link.
URL:https://ggdru.nl/agenda/fysieke-bijeenkomst-voor-professionals-kinderwens-durf-te-vragen/
LOCATION:Hoofdkantoor GGDrU\, De Dreef 5\, Zeist\, Utrecht\, 3706 BR\, Netherlands
CATEGORIES:Bijeenkomst professionals
END:VEVENT
BEGIN:VEVENT
DTSTART;TZID=Europe/Amsterdam:20251127T140000
DTEND;TZID=Europe/Amsterdam:20251127T170000
DTSTAMP:20260425T143507
CREATED:20250722T082349Z
LAST-MODIFIED:20250722T082349Z
UID:37787-1764252000-1764262800@ggdru.nl
SUMMARY:Multidisciplinaire scholing 'Het jonge kind' voor zorgprofessionals in Eemland
DESCRIPTION:Werk jij met (aanstaande) gezinnen met jonge kinderen in regio Eemland?\nNoteer dan donderdagmiddag 27 november 2025 alvast in je agenda! \nWe nodigen je van harte uit voor een interactieve\, multidisciplinaire scholing\, waarin we met casuïstiek uit de praktijk aan de slag gaan. De ouder-kindrelatie loopt als rode draad door thema’s zoals: \n\nOvermatig huilen\nSlaapproblemen\nVoedingsproblemen\nOpgroeien in onveiligheid\nPsychiatrie en zwangerschap\n\nJe gaat in kleine\, diverse groepen in gesprek met collega’s uit o.a. de JGZ\, huisartsenzorg\, het ziekenhuis\, de geboortezorg\, paramedici en het sociaal domein (oa welzijn\, wijkteam). \nDatum: donderdag 27 november 2025\nTijd: 14:00 – 17:00 uur (inloop vanaf 13:30 uur)\nLocatie: omgeving Amersfoort (volgt)\nMaximaal aantal deelnemers: 40 \nHalf september volgt de officiële uitnodiging met programma en inschrijflink.
URL:https://ggdru.nl/agenda/multidisciplinaire-scholing-het-jonge-kind-voor-zorgprofessionals-in-eemland/
LOCATION:Utrecht
CATEGORIES:Bijeenkomst professionals
END:VEVENT
BEGIN:VEVENT
DTSTART;TZID=Europe/Amsterdam:20260316T120000
DTEND;TZID=Europe/Amsterdam:20260316T173000
DTSTAMP:20260425T143507
CREATED:20260218T124923Z
LAST-MODIFIED:20260218T124923Z
UID:41316-1773662400-1773682200@ggdru.nl
SUMMARY:Bijeenkomst 'Seksuele gezondheid ten tijde van polarisatie' voor professionals
DESCRIPTION:Seksuele gezondheid is keer op keer een politiek thema. Ook binnen dit werkveld is polarisatie duidelijk merkbaar: van misinformatie over anticonceptie\, jongeren die in aanraking komen met de manosphere tot de ophef rondom de Week van de Lentekriebels. \nTijdens de bijeenkomst ‘Seksuele gezondheid ten tijde van polarisatie’ bieden we inzicht in hoe deze polarisatie de afgelopen jaren ons werkveld heeft beïnvloed. We verkennen met elkaar hoe we onze positie kunnen blijven versterken. Ook nodigen we inspirerende sprekers uit en er is ruimte voor jouw (nieuwe) initiatieven in de vorm van een pitch. \nBen jij erbij? Meld je aan via dit formulier. \n– Maandag 16 maart 2026 van 12.00 tot 17.30 uur\n– Locatie de Lieve Vrouw\, Lieve Vrouwestraat 12\, 3811 BP Amersfoort\n– Parkeergelegenheid nabij (betaald) en op 10 minuten lopen van station Amersfoort Centraal. \nHeb je je al aangemeld via de ‘Save the date’? Dan hoef je je niet nogmaals aan te melden.\nKen je iemand binnen je netwerk voor wie deze bijeenkomst interessant is? Deel deze uitnodiging gerust door!
URL:https://ggdru.nl/agenda/bijeenkomst-seksuele-gezondheid-ten-tijde-van-polarisatie-voor-professionals/
LOCATION:De Lieve Vrouw Amersfoort\, Lieve Vrouwestraat 12\, Amersfoort\, Utrecht\, 3811BP\, Netherlands
CATEGORIES:Bijeenkomst professionals
END:VEVENT
BEGIN:VEVENT
DTSTART;TZID=Europe/Amsterdam:20260413T123000
DTEND;TZID=Europe/Amsterdam:20260413T173000
DTSTAMP:20260425T143507
CREATED:20260317T124603Z
LAST-MODIFIED:20260317T124603Z
UID:41952-1776083400-1776101400@ggdru.nl
SUMMARY:Symposium voor professionals ‘Samen Gezond – Van Inzicht naar Impact’
DESCRIPTION:Hoe vertalen we de ambities uit de nieuwe landelijke gezondheidsnota naar écht effectief lokaal beleid?\nOp maandag 13 april 2026 organiseren wij het symposium Samen Gezond – Van Inzicht naar Impact in Amersfoort. Een inspirerende middag waarin kennis\, praktijk en beleid samenkomen. \nVoor wie?\nBestuurders\, beleidsmakers\, ambtenaren en samenwerkingspartners in de publieke gezondheid die willen bouwen aan een toekomstbestendige\, gezonde regio. \nWat kun je verwachten?\nPlenaire opening\nHet Symposium wordt geopend door Marc Sprenger (Directeur Publieke Gezondheid GGDrU)\, samen met Eveline Schell (wethouder Gemeente IJsselstein). \nMaarten Lemmink\, manager Gezond Leven en Preventie vanuit het Ministerie van Volksgezondheid\, Welzijn en Sport (VWS) neemt ons vervolgens mee in de belangrijkste uitdagingen en prioriteiten van de landelijke gezondheidsnota. Wat betekenen deze ambities concreet voor onze praktijk? \nTot slot nemen de onderzoekers publieke gezondheid van GGD regio Utrecht ons mee naar de regio: hoe staat het met het welzijn en de gezondheid van inwoners van 0-100 jaar in de regio Utrecht? \nVerdiepende themasessies\nOp de dag zelf kun je je inschrijven voor 2 themasessies. Dit zijn de actuele thema’s: \n\nDubbele vergrijzing: Theory of Change\nAlle jongeren sociaal gezond. Hoe dan?\nAan de slag met de GezondheidsAtlas\nKwetsbare groepen in beeld: inzichten uit de OGGZ\nBestaansonzekerheid in regio Utrecht\nVersterking van gemeenschapskracht in de buurt\nGezondere voedselomgeving\nKlimaat en volksgezondheid\nMantelzorg onder druk\n\nWe sluiten de middag af met een netwerkborrel. Dit biedt een uitgelezen kans om kennis uit te wisselen met collega-bestuurders en zorgpartners uit de regio.\nTijd: 13.00 – 17.30 uur (inloop vanaf 12.30)\nLocatie: Leerhotel het Klooster\, Amersfoort\nAanmelden kan tot en met maandag 30 maart via dit aanmeldformulier.\nBouw je met ons mee aan een gezonde regio? Wij ontmoeten je graag op 13 april!
URL:https://ggdru.nl/agenda/symposium-voor-professionals-samen-gezond-van-inzicht-naar-impact/
LOCATION:Leerhotel het Klooster\, Daam Fockemalaan 10\, Amersfoort\, Utrecht\, 3818KG\, Netherlands
CATEGORIES:Bijeenkomst professionals
END:VEVENT
END:VCALENDAR