BEGIN:VCALENDAR
VERSION:2.0
PRODID:-//GGDrU - ECPv6.15.20//NONSGML v1.0//EN
CALSCALE:GREGORIAN
METHOD:PUBLISH
X-ORIGINAL-URL:https://ggdru.nl
X-WR-CALDESC:Evenementen voor GGDrU
REFRESH-INTERVAL;VALUE=DURATION:PT1H
X-Robots-Tag:noindex
X-PUBLISHED-TTL:PT1H
BEGIN:VTIMEZONE
TZID:Europe/Amsterdam
BEGIN:DAYLIGHT
TZOFFSETFROM:+0100
TZOFFSETTO:+0200
TZNAME:CEST
DTSTART:20250330T010000
END:DAYLIGHT
BEGIN:STANDARD
TZOFFSETFROM:+0200
TZOFFSETTO:+0100
TZNAME:CET
DTSTART:20251026T010000
END:STANDARD
BEGIN:DAYLIGHT
TZOFFSETFROM:+0100
TZOFFSETTO:+0200
TZNAME:CEST
DTSTART:20260329T010000
END:DAYLIGHT
BEGIN:STANDARD
TZOFFSETFROM:+0200
TZOFFSETTO:+0100
TZNAME:CET
DTSTART:20261025T010000
END:STANDARD
BEGIN:DAYLIGHT
TZOFFSETFROM:+0100
TZOFFSETTO:+0200
TZNAME:CEST
DTSTART:20270328T010000
END:DAYLIGHT
BEGIN:STANDARD
TZOFFSETFROM:+0200
TZOFFSETTO:+0100
TZNAME:CET
DTSTART:20271031T010000
END:STANDARD
END:VTIMEZONE
BEGIN:VEVENT
DTSTART;TZID=Europe/Amsterdam:20260316T120000
DTEND;TZID=Europe/Amsterdam:20260316T173000
DTSTAMP:20260425T132502
CREATED:20260218T124923Z
LAST-MODIFIED:20260218T124923Z
UID:41316-1773662400-1773682200@ggdru.nl
SUMMARY:Bijeenkomst 'Seksuele gezondheid ten tijde van polarisatie' voor professionals
DESCRIPTION:Seksuele gezondheid is keer op keer een politiek thema. Ook binnen dit werkveld is polarisatie duidelijk merkbaar: van misinformatie over anticonceptie\, jongeren die in aanraking komen met de manosphere tot de ophef rondom de Week van de Lentekriebels. \nTijdens de bijeenkomst ‘Seksuele gezondheid ten tijde van polarisatie’ bieden we inzicht in hoe deze polarisatie de afgelopen jaren ons werkveld heeft beïnvloed. We verkennen met elkaar hoe we onze positie kunnen blijven versterken. Ook nodigen we inspirerende sprekers uit en er is ruimte voor jouw (nieuwe) initiatieven in de vorm van een pitch. \nBen jij erbij? Meld je aan via dit formulier. \n– Maandag 16 maart 2026 van 12.00 tot 17.30 uur\n– Locatie de Lieve Vrouw\, Lieve Vrouwestraat 12\, 3811 BP Amersfoort\n– Parkeergelegenheid nabij (betaald) en op 10 minuten lopen van station Amersfoort Centraal. \nHeb je je al aangemeld via de ‘Save the date’? Dan hoef je je niet nogmaals aan te melden.\nKen je iemand binnen je netwerk voor wie deze bijeenkomst interessant is? Deel deze uitnodiging gerust door!
URL:https://ggdru.nl/agenda/bijeenkomst-seksuele-gezondheid-ten-tijde-van-polarisatie-voor-professionals/
LOCATION:De Lieve Vrouw Amersfoort\, Lieve Vrouwestraat 12\, Amersfoort\, Utrecht\, 3811BP\, Netherlands
CATEGORIES:Bijeenkomst professionals
END:VEVENT
BEGIN:VEVENT
DTSTART;TZID=Europe/Amsterdam:20260413T123000
DTEND;TZID=Europe/Amsterdam:20260413T173000
DTSTAMP:20260425T132502
CREATED:20260317T124603Z
LAST-MODIFIED:20260317T124603Z
UID:41952-1776083400-1776101400@ggdru.nl
SUMMARY:Symposium voor professionals ‘Samen Gezond – Van Inzicht naar Impact’
DESCRIPTION:Hoe vertalen we de ambities uit de nieuwe landelijke gezondheidsnota naar écht effectief lokaal beleid?\nOp maandag 13 april 2026 organiseren wij het symposium Samen Gezond – Van Inzicht naar Impact in Amersfoort. Een inspirerende middag waarin kennis\, praktijk en beleid samenkomen. \nVoor wie?\nBestuurders\, beleidsmakers\, ambtenaren en samenwerkingspartners in de publieke gezondheid die willen bouwen aan een toekomstbestendige\, gezonde regio. \nWat kun je verwachten?\nPlenaire opening\nHet Symposium wordt geopend door Marc Sprenger (Directeur Publieke Gezondheid GGDrU)\, samen met Eveline Schell (wethouder Gemeente IJsselstein). \nMaarten Lemmink\, manager Gezond Leven en Preventie vanuit het Ministerie van Volksgezondheid\, Welzijn en Sport (VWS) neemt ons vervolgens mee in de belangrijkste uitdagingen en prioriteiten van de landelijke gezondheidsnota. Wat betekenen deze ambities concreet voor onze praktijk? \nTot slot nemen de onderzoekers publieke gezondheid van GGD regio Utrecht ons mee naar de regio: hoe staat het met het welzijn en de gezondheid van inwoners van 0-100 jaar in de regio Utrecht? \nVerdiepende themasessies\nOp de dag zelf kun je je inschrijven voor 2 themasessies. Dit zijn de actuele thema’s: \n\nDubbele vergrijzing: Theory of Change\nAlle jongeren sociaal gezond. Hoe dan?\nAan de slag met de GezondheidsAtlas\nKwetsbare groepen in beeld: inzichten uit de OGGZ\nBestaansonzekerheid in regio Utrecht\nVersterking van gemeenschapskracht in de buurt\nGezondere voedselomgeving\nKlimaat en volksgezondheid\nMantelzorg onder druk\n\nWe sluiten de middag af met een netwerkborrel. Dit biedt een uitgelezen kans om kennis uit te wisselen met collega-bestuurders en zorgpartners uit de regio.\nTijd: 13.00 – 17.30 uur (inloop vanaf 12.30)\nLocatie: Leerhotel het Klooster\, Amersfoort\nAanmelden kan tot en met maandag 30 maart via dit aanmeldformulier.\nBouw je met ons mee aan een gezonde regio? Wij ontmoeten je graag op 13 april!
URL:https://ggdru.nl/agenda/symposium-voor-professionals-samen-gezond-van-inzicht-naar-impact/
LOCATION:Leerhotel het Klooster\, Daam Fockemalaan 10\, Amersfoort\, Utrecht\, 3818KG\, Netherlands
CATEGORIES:Bijeenkomst professionals
END:VEVENT
END:VCALENDAR