BEGIN:VCALENDAR
VERSION:2.0
PRODID:-//GGDrU - ECPv6.15.20//NONSGML v1.0//EN
CALSCALE:GREGORIAN
METHOD:PUBLISH
X-ORIGINAL-URL:https://ggdru.nl
X-WR-CALDESC:Evenementen voor GGDrU
REFRESH-INTERVAL;VALUE=DURATION:PT1H
X-Robots-Tag:noindex
X-PUBLISHED-TTL:PT1H
BEGIN:VTIMEZONE
TZID:Europe/Amsterdam
BEGIN:DAYLIGHT
TZOFFSETFROM:+0100
TZOFFSETTO:+0200
TZNAME:CEST
DTSTART:20240331T010000
END:DAYLIGHT
BEGIN:STANDARD
TZOFFSETFROM:+0200
TZOFFSETTO:+0100
TZNAME:CET
DTSTART:20241027T010000
END:STANDARD
BEGIN:DAYLIGHT
TZOFFSETFROM:+0100
TZOFFSETTO:+0200
TZNAME:CEST
DTSTART:20250330T010000
END:DAYLIGHT
BEGIN:STANDARD
TZOFFSETFROM:+0200
TZOFFSETTO:+0100
TZNAME:CET
DTSTART:20251026T010000
END:STANDARD
BEGIN:DAYLIGHT
TZOFFSETFROM:+0100
TZOFFSETTO:+0200
TZNAME:CEST
DTSTART:20260329T010000
END:DAYLIGHT
BEGIN:STANDARD
TZOFFSETFROM:+0200
TZOFFSETTO:+0100
TZNAME:CET
DTSTART:20261025T010000
END:STANDARD
END:VTIMEZONE
BEGIN:VEVENT
DTSTART;TZID=Europe/Amsterdam:20251119T191500
DTEND;TZID=Europe/Amsterdam:20251119T210000
DTSTAMP:20260424T235614
CREATED:20251028T100346Z
LAST-MODIFIED:20251028T100346Z
UID:39797-1763579700-1763586000@ggdru.nl
SUMMARY:Ouderavond 'Vapen: wat je als ouder wilt weten'
DESCRIPTION:Vapes bevatten veel giftige stoffen\, zijn supersnel verslavend en verstoren de ontwikkeling van de hersenen van een kind. Misschien maak jij je ook zorgen. Je wil erover praten met je kind\, maar hoe begin je dat gesprek? En heeft het eigenlijk wel zin? (Ja\, meer dan je denkt!) \nDe avond wordt geopend door Angèle Welting Wethouder Jeugd Gemeente Zeist. Daarna volgen er twee experts; Laura Sprock (arts) en Ditza van den Hazel (Preventiedeskundige Jellinek). \nKlik hier om je aan te melden.\nIn 1\,5 uur krijg je: \n\nDuidelijke informatie over vapen en de risico’s.\nInzicht in hoe de tabaksindustrie jongeren verleidt.\nInformatie over hoe je als ouder invloed hebt op het gedrag van je kind.\nPraktische handvatten om in gesprek te gaan met je kind.\n\nDatum: 19 november 2025\nTijden: 19.15 (inloop) 19.30-21.00 (ouderavond)\nAdres: Theater de Klinker\, Markt 3 Zeist
URL:https://ggdru.nl/agenda/ouderavond-vapen-wat-je-als-ouder-wilt-weten/
LOCATION:Theater de Klinker\, Zeist\, Markt 3\, Zeist\, Utrecht\, 3701 JZ\, Netherlands
CATEGORIES:Ouderavond
END:VEVENT
END:VCALENDAR