BEGIN:VCALENDAR
VERSION:2.0
PRODID:-//GGDrU - ECPv6.15.20//NONSGML v1.0//EN
CALSCALE:GREGORIAN
METHOD:PUBLISH
X-ORIGINAL-URL:https://ggdru.nl
X-WR-CALDESC:Evenementen voor GGDrU
REFRESH-INTERVAL;VALUE=DURATION:PT1H
X-Robots-Tag:noindex
X-PUBLISHED-TTL:PT1H
BEGIN:VTIMEZONE
TZID:Europe/Amsterdam
BEGIN:DAYLIGHT
TZOFFSETFROM:+0100
TZOFFSETTO:+0200
TZNAME:CEST
DTSTART:20240331T010000
END:DAYLIGHT
BEGIN:STANDARD
TZOFFSETFROM:+0200
TZOFFSETTO:+0100
TZNAME:CET
DTSTART:20241027T010000
END:STANDARD
BEGIN:DAYLIGHT
TZOFFSETFROM:+0100
TZOFFSETTO:+0200
TZNAME:CEST
DTSTART:20250330T010000
END:DAYLIGHT
BEGIN:STANDARD
TZOFFSETFROM:+0200
TZOFFSETTO:+0100
TZNAME:CET
DTSTART:20251026T010000
END:STANDARD
BEGIN:DAYLIGHT
TZOFFSETFROM:+0100
TZOFFSETTO:+0200
TZNAME:CEST
DTSTART:20260329T010000
END:DAYLIGHT
BEGIN:STANDARD
TZOFFSETFROM:+0200
TZOFFSETTO:+0100
TZNAME:CET
DTSTART:20261025T010000
END:STANDARD
END:VTIMEZONE
BEGIN:VEVENT
DTSTART;TZID=Europe/Amsterdam:20250401T200000
DTEND;TZID=Europe/Amsterdam:20250401T210000
DTSTAMP:20260419T140753
CREATED:20250217T141755Z
LAST-MODIFIED:20250219T140749Z
UID:34921-1743537600-1743541200@ggdru.nl
SUMMARY:Webinar 'Mijn lijf\, jouw lijf' voor ouders
DESCRIPTION:In dit webinar leer je als ouder/verzorger welke stappen een kind tussen de 0 en 12 jaar neemt in een gezonde seksuele ontwikkeling. Elk kind ontwikkelt zich lichamelijk en sociaal-emotioneel. Leren omgaan met je lijf\, gevoelens en je omgeving horen daarbij. In deze tijd wordt er veel gepraat over seksualiteit\, maar wat is normaal en hoe kan je hier als ouder goed op reageren? \nIn deze bijeenkomst gaan we je stap voor stap meenemen in een gezonde seksuele ontwikkeling\, van baby tot een 12-jarige. Door de ogen van een kind ziet alles er anders uit dan door de ogen van een volwassene\, ook hoe je omgaat met je lijf en hoe je ernaar kijkt. Het webinar is georganiseerd door CJG Rijnmond\, in samenwerking met andere JGZ-organisaties. \nMeld je aan via de website van CJG Rijnmond.
URL:https://ggdru.nl/agenda/webinar-voor-ouders-mijn-lijf-jouw-lijf/
LOCATION:online
CATEGORIES:Online training
ATTACH;FMTTYPE=image/png:https://ggdru.nl/wp-content/uploads/2025/02/kindje.png
END:VEVENT
BEGIN:VEVENT
DTSTART;TZID=Europe/Amsterdam:20250407T150000
DTEND;TZID=Europe/Amsterdam:20250407T170000
DTSTAMP:20260419T140753
CREATED:20250217T121009Z
LAST-MODIFIED:20250404T104319Z
UID:34762-1744038000-1744045200@ggdru.nl
SUMMARY:Kennisatelier Gezond zwanger worden voor (zorg)professionals
DESCRIPTION:Een kansrijke start voor ieder kind begint al vóór de zwangerschap. \nWerk je aan beleid voor gemeenten\, het sociaal\, medisch of informeel domein\, en ben je betrokken bij preconceptiezorg\, Nu Niet Zwanger\, Gezond Zwanger Worden en/of Kansrijke Start? En wil je handvatten krijgen over hoe je lokaal of regionaal bij kan dragen aan gezond zwanger worden?\nKom dan naar het kennisatelier Gezond Zwanger Worden van GGD regio Utrecht op maandag 7 april! \nOntdek welke factoren een rol spelen bij het bevorderen van zwangerschapsvoorbereiding\, wat het aanbod en de samenhang is en hoe we de samenwerking tussen professionals kunnen versterken. \nSharissa Smith\, verloskundearts i.o.\, gaat tijdens haar presentatie in op het belang van Gezond Zwanger Worden en hoe professionals kunnen bijdragen aan de bewustwording daarvan. \nWe organiseren daarnaast meerdere workshops over onder andere: \n\nGezond Zwanger Worden én Nu Niet Zwanger: Waar vinden deze ogenschijnlijk tegengestelde programma’s elkaar en hoe kunnen ze elkaar versterken?\nBest practice: Jong JGZ werkt in regio Zuid-Holland Zuid als koploper aan Gezond Zwanger Worden\, laat je inspireren!\nTNO: Een workshop over lesprogramma Nietofwelzwanger voor mbo-scholieren.\nExpertisecentrum Vaders: Laat je nadenken over het betrekken van vaders en hoe je dit kunt doen. Ze delen inzichten vanuit een wetenschappelijke basis en praktijkervaring.\n\nHet wordt een inspirerende bijeenkomst met praktijkvoorbeelden\, interactieve workshops en nieuwe mogelijkheden om samenwerkingen te versterken. Een uitgelezen kans om te netwerken met collega’s en met elkaar te bouwen aan een generatie die kansrijk opgroeit. \nWe zien je graag op maandag 7 april\, de inloop begint om 14.30!
URL:https://ggdru.nl/agenda/kennisatelier-gezond-zwanger-worden/
LOCATION:Hoofdkantoor GGDrU\, De Dreef 5\, Zeist\, Utrecht\, 3706 BR\, Netherlands
CATEGORIES:Bijeenkomst professionals
END:VEVENT
END:VCALENDAR